git_url: https://git.bioconductor.org/packages/NTW git_branch: RELEASE_3_17 git_last_commit: 616c4ea git_last_commit_date: 2023-04-25 09:51:16 -0400 (Tue, 25 Apr 2023) Package: NTW Version: 1.50.0 Maintainer: Yuanhua Liu MaintainerEmail: liuyuanhua at picb.ac.cn