git_url: https://git.bioconductor.org/packages/OCplus git_branch: RELEASE_3_17 git_last_commit: bc37a39 git_last_commit_date: 2023-04-25 09:43:24 -0400 (Tue, 25 Apr 2023) Package: OCplus Version: 1.74.0 Maintainer: Alexander Ploner MaintainerEmail: Alexander.Ploner at ki.se