Package: PPInfer Version: 1.26.0 Command: /Library/Frameworks/R.framework/Resources/bin/R CMD INSTALL PPInfer StartedAt: 2023-10-15 18:34:42 -0400 (Sun, 15 Oct 2023) EndedAt: 2023-10-15 18:35:30 -0400 (Sun, 15 Oct 2023) EllapsedTime: 47.9 seconds RetCode: 0 Status: OK