Package: PepsNMR Version: 1.18.0 Command: rm -rf PepsNMR.buildbin-libdir && mkdir PepsNMR.buildbin-libdir && /Users/biocbuild/BBS/utils/build-universal.sh PepsNMR_1.18.0.tar.gz /Library/Frameworks/R.framework/Resources/bin/R PepsNMR.buildbin-libdir StartedAt: 2023-10-19 15:48:49 -0400 (Thu, 19 Oct 2023) EndedAt: 2023-10-19 15:49:14 -0400 (Thu, 19 Oct 2023) EllapsedTime: 25.1 seconds RetCode: 0 Status: OK PackageFile: PepsNMR_1.18.0.tgz PackageFileSize: 1.277 MiB