Package: PepsNMR Version: 1.18.0 Command: /Library/Frameworks/R.framework/Resources/bin/R CMD build --keep-empty-dirs --no-resave-data PepsNMR StartedAt: 2023-10-16 13:58:43 -0400 (Mon, 16 Oct 2023) EndedAt: 2023-10-16 14:09:08 -0400 (Mon, 16 Oct 2023) EllapsedTime: 624.7 seconds RetCode: 0 Status: OK PackageFile: PepsNMR_1.18.0.tar.gz PackageFileSize: 1.18 MiB