git_url: https://git.bioconductor.org/packages/PhenStat git_branch: RELEASE_3_17 git_last_commit: b04074b git_last_commit_date: 2023-04-25 10:29:49 -0400 (Tue, 25 Apr 2023) Package: PhenStat Version: 2.36.0 Maintainer: Hamed Haselimashhadi MaintainerEmail: hamedhm at ebi.ac.uk