Package: RNAmodR.RiboMethSeq Version: 1.14.0 Command: /Library/Frameworks/R.framework/Resources/bin/R CMD build --keep-empty-dirs --no-resave-data RNAmodR.RiboMethSeq StartedAt: 2023-10-16 17:17:53 -0400 (Mon, 16 Oct 2023) EndedAt: 2023-10-16 17:21:53 -0400 (Mon, 16 Oct 2023) EllapsedTime: 240.4 seconds RetCode: 0 Status: OK PackageFile: RNAmodR.RiboMethSeq_1.14.0.tar.gz PackageFileSize: 607.5 KiB