git_url: https://git.bioconductor.org/packages/RSeqAn git_branch: RELEASE_3_17 git_last_commit: 8b1a6f6 git_last_commit_date: 2023-04-25 11:01:09 -0400 (Tue, 25 Apr 2023) Package: RSeqAn Version: 1.20.0 Maintainer: August Guang MaintainerEmail: august.guang at gmail.com