Package: RSeqAn Version: 1.20.0 Command: rm -rf RSeqAn.buildbin-libdir && mkdir RSeqAn.buildbin-libdir && /Users/biocbuild/BBS/utils/build-universal.sh RSeqAn_1.20.0.tar.gz /Library/Frameworks/R.framework/Resources/bin/R RSeqAn.buildbin-libdir StartedAt: 2023-10-19 16:44:18 -0400 (Thu, 19 Oct 2023) EndedAt: 2023-10-19 16:44:51 -0400 (Thu, 19 Oct 2023) EllapsedTime: 33.4 seconds RetCode: 0 Status: OK PackageFile: RSeqAn_1.20.0.tgz PackageFileSize: 1.714 MiB