Package: RSeqAn Version: 1.20.0 Command: /Library/Frameworks/R.framework/Resources/bin/R CMD build --keep-empty-dirs --no-resave-data RSeqAn StartedAt: 2023-10-16 17:37:12 -0400 (Mon, 16 Oct 2023) EndedAt: 2023-10-16 17:37:52 -0400 (Mon, 16 Oct 2023) EllapsedTime: 40.8 seconds RetCode: 0 Status: OK PackageFile: RSeqAn_1.20.0.tar.gz PackageFileSize: 1.621 MiB