Package: S4Vectors Version: 0.38.2 Command: /Library/Frameworks/R.framework/Resources/bin/R CMD check --install=check:S4Vectors.install-out.txt --library=/Library/Frameworks/R.framework/Resources/library --no-vignettes --timings S4Vectors_0.38.2.tar.gz StartedAt: 2023-10-18 21:15:44 -0400 (Wed, 18 Oct 2023) EndedAt: 2023-10-18 21:18:59 -0400 (Wed, 18 Oct 2023) EllapsedTime: 194.7 seconds RetCode: 0 Status: WARNINGS CheckDir: S4Vectors.Rcheck Warnings: 3