Package: SC3 Version: 1.28.3 Command: rm -rf SC3.buildbin-libdir && mkdir SC3.buildbin-libdir && /Users/biocbuild/BBS/utils/build-universal.sh SC3_1.28.3.tar.gz /Library/Frameworks/R.framework/Resources/bin/R SC3.buildbin-libdir StartedAt: 2023-10-19 16:50:49 -0400 (Thu, 19 Oct 2023) EndedAt: 2023-10-19 16:52:48 -0400 (Thu, 19 Oct 2023) EllapsedTime: 119.2 seconds RetCode: 0 Status: OK PackageFile: SC3_1.28.3.tgz PackageFileSize: 4.492 MiB