Package: SC3 Version: 1.28.3 Command: /Library/Frameworks/R.framework/Resources/bin/R CMD build --keep-empty-dirs --no-resave-data SC3 StartedAt: 2023-10-16 17:56:04 -0400 (Mon, 16 Oct 2023) EndedAt: 2023-10-16 18:15:34 -0400 (Mon, 16 Oct 2023) EllapsedTime: 1169.6 seconds RetCode: 0 Status: OK PackageFile: SC3_1.28.3.tar.gz PackageFileSize: 3.226 MiB