Package: SC3 Version: 1.28.3 Command: /Library/Frameworks/R.framework/Resources/bin/R CMD check --install=check:SC3.install-out.txt --library=/Library/Frameworks/R.framework/Resources/library --no-vignettes --timings SC3_1.28.3.tar.gz StartedAt: 2023-10-18 21:30:43 -0400 (Wed, 18 Oct 2023) EndedAt: 2023-10-18 21:36:25 -0400 (Wed, 18 Oct 2023) EllapsedTime: 342.8 seconds RetCode: 0 Status: OK CheckDir: SC3.Rcheck Warnings: 0