Package: SC3 Version: 1.28.3 Command: /Library/Frameworks/R.framework/Resources/bin/R CMD INSTALL SC3 StartedAt: 2023-10-15 17:26:42 -0400 (Sun, 15 Oct 2023) EndedAt: 2023-10-15 17:28:01 -0400 (Sun, 15 Oct 2023) EllapsedTime: 78.7 seconds RetCode: 0 Status: OK