git_url: https://git.bioconductor.org/packages/SISPA git_branch: RELEASE_3_17 git_last_commit: 088109a git_last_commit_date: 2023-04-25 10:42:09 -0400 (Tue, 25 Apr 2023) Package: SISPA Version: 1.30.0 Maintainer: Bhakti Dwivedi MaintainerEmail: bhakti.dwivedi at emory.edu