Package: SPIA Version: 2.52.0 Command: /Library/Frameworks/R.framework/Resources/bin/R CMD build --keep-empty-dirs --no-resave-data SPIA StartedAt: 2023-10-16 21:33:49 -0400 (Mon, 16 Oct 2023) EndedAt: 2023-10-16 21:48:52 -0400 (Mon, 16 Oct 2023) EllapsedTime: 903.4 seconds RetCode: 0 Status: OK PackageFile: SPIA_2.52.0.tar.gz PackageFileSize: 2.549 MiB