Package: SPIA Version: 2.52.0 Command: /Library/Frameworks/R.framework/Resources/bin/R CMD INSTALL SPIA StartedAt: 2023-10-15 15:18:37 -0400 (Sun, 15 Oct 2023) EndedAt: 2023-10-15 15:18:48 -0400 (Sun, 15 Oct 2023) EllapsedTime: 10.4 seconds RetCode: 0 Status: OK