Package: SVMDO Version: 1.0.0 Command: /Library/Frameworks/R.framework/Resources/bin/R CMD check --install=check:SVMDO.install-out.txt --library=/Library/Frameworks/R.framework/Resources/library --no-vignettes --timings SVMDO_1.0.0.tar.gz StartedAt: 2023-10-19 05:40:06 -0400 (Thu, 19 Oct 2023) EndedAt: 2023-10-19 05:47:46 -0400 (Thu, 19 Oct 2023) EllapsedTime: 460.8 seconds RetCode: 0 Status: OK CheckDir: SVMDO.Rcheck Warnings: 0