Package: TDbasedUFEadv Version: 1.0.0 Command: rm -rf TDbasedUFEadv.buildbin-libdir && mkdir TDbasedUFEadv.buildbin-libdir && /Users/biocbuild/BBS/utils/build-universal.sh TDbasedUFEadv_1.0.0.tar.gz /Library/Frameworks/R.framework/Resources/bin/R TDbasedUFEadv.buildbin-libdir StartedAt: 2023-10-19 17:46:29 -0400 (Thu, 19 Oct 2023) EndedAt: 2023-10-19 17:47:44 -0400 (Thu, 19 Oct 2023) EllapsedTime: 75.0 seconds RetCode: 0 Status: OK PackageFile: TDbasedUFEadv_1.0.0.tgz PackageFileSize: 3.039 MiB