Package: TIN Version: 1.32.0 Command: /Library/Frameworks/R.framework/Resources/bin/R CMD build --keep-empty-dirs --no-resave-data TIN StartedAt: 2023-10-16 23:14:00 -0400 (Mon, 16 Oct 2023) EndedAt: 2023-10-16 23:15:48 -0400 (Mon, 16 Oct 2023) EllapsedTime: 108.2 seconds RetCode: 0 Status: OK PackageFile: TIN_1.32.0.tar.gz PackageFileSize: 4.592 MiB