git_url: https://git.bioconductor.org/packages/TNBC.CMS git_branch: RELEASE_3_17 git_last_commit: 270363a git_last_commit_date: 2023-04-25 11:09:04 -0400 (Tue, 25 Apr 2023) Package: TNBC.CMS Version: 1.16.0 Maintainer: Doyeong Yu MaintainerEmail: parklab.bi at gmail.com