Package: TimiRGeN Version: 1.10.0 Command: /Library/Frameworks/R.framework/Resources/bin/R CMD build --keep-empty-dirs --no-resave-data TimiRGeN StartedAt: 2023-10-16 23:13:09 -0400 (Mon, 16 Oct 2023) EndedAt: 2023-10-16 23:15:39 -0400 (Mon, 16 Oct 2023) EllapsedTime: 150.5 seconds RetCode: 0 Status: OK PackageFile: TimiRGeN_1.10.0.tar.gz PackageFileSize: 4.334 MiB