Package: ToxicoGx Version: 2.4.0 Command: /Library/Frameworks/R.framework/Resources/bin/R CMD build --keep-empty-dirs --no-resave-data ToxicoGx StartedAt: 2023-10-16 23:22:22 -0400 (Mon, 16 Oct 2023) EndedAt: 2023-10-16 23:24:04 -0400 (Mon, 16 Oct 2023) EllapsedTime: 102.8 seconds RetCode: 0 Status: OK PackageFile: ToxicoGx_2.4.0.tar.gz PackageFileSize: 3.928 MiB