Package: TrajectoryUtils Version: 1.8.0 Command: /Library/Frameworks/R.framework/Resources/bin/R CMD INSTALL TrajectoryUtils StartedAt: 2023-10-15 15:36:13 -0400 (Sun, 15 Oct 2023) EndedAt: 2023-10-15 15:36:53 -0400 (Sun, 15 Oct 2023) EllapsedTime: 40.0 seconds RetCode: 0 Status: OK