git_url: https://git.bioconductor.org/packages/VariantFiltering git_branch: RELEASE_3_17 git_last_commit: f9846cf git_last_commit_date: 2023-06-26 07:54:10 -0400 (Mon, 26 Jun 2023) Package: VariantFiltering Version: 1.36.1 Maintainer: Robert Castelo MaintainerEmail: robert.castelo at upf.edu