Package: adSplit Version: 1.70.0 Command: /Library/Frameworks/R.framework/Resources/bin/R CMD build --keep-empty-dirs --no-resave-data adSplit StartedAt: 2023-10-15 20:21:05 -0400 (Sun, 15 Oct 2023) EndedAt: 2023-10-15 20:23:39 -0400 (Sun, 15 Oct 2023) EllapsedTime: 154.5 seconds RetCode: 0 Status: OK PackageFile: adSplit_1.70.0.tar.gz PackageFileSize: 536.6 KiB