git_url: https://git.bioconductor.org/packages/affy git_branch: RELEASE_3_17 git_last_commit: affc140 git_last_commit_date: 2023-07-15 14:50:19 -0400 (Sat, 15 Jul 2023) Package: affy Version: 1.78.2 Maintainer: Robert D. Shear MaintainerEmail: rshear at ds.dfci.harvard.edu