git_url: https://git.bioconductor.org/packages/animalcules git_branch: RELEASE_3_17 git_last_commit: e7416c0 git_last_commit_date: 2023-04-25 11:10:12 -0400 (Tue, 25 Apr 2023) Package: animalcules Version: 1.16.0 Maintainer: Yue Zhao MaintainerEmail: yuezh at bu.edu