Package: bigmelon Version: 1.26.0 Command: /Library/Frameworks/R.framework/Resources/bin/R CMD build --keep-empty-dirs --no-resave-data bigmelon StartedAt: 2023-10-15 21:44:54 -0400 (Sun, 15 Oct 2023) EndedAt: 2023-10-15 21:46:37 -0400 (Sun, 15 Oct 2023) EllapsedTime: 103.1 seconds RetCode: 0 Status: OK PackageFile: bigmelon_1.26.0.tar.gz PackageFileSize: 897.4 KiB