git_url: https://git.bioconductor.org/packages/biocViews git_branch: RELEASE_3_17 git_last_commit: e9bb5c2 git_last_commit_date: 2023-08-24 15:28:07 -0400 (Thu, 24 Aug 2023) Package: biocViews Version: 1.68.2 Maintainer: Bioconductor Package Maintainer MaintainerEmail: maintainer at bioconductor.org