git_url: https://git.bioconductor.org/packages/ccfindR git_branch: RELEASE_3_17 git_last_commit: c1a021b git_last_commit_date: 2023-04-25 11:01:32 -0400 (Tue, 25 Apr 2023) Package: ccfindR Version: 1.20.0 Maintainer: Jun Woo MaintainerEmail: jwoo at umn.edu