Package: ccfindR Version: 1.19.0 Command: rm -rf ccfindR.buildbin-libdir && mkdir ccfindR.buildbin-libdir && /Users/biocbuild/BBS/utils/build-universal.sh ccfindR_1.19.0.tar.gz /Library/Frameworks/R.framework/Resources/bin/R ccfindR.buildbin-libdir StartedAt: 2023-03-30 10:47:59 -0400 (Thu, 30 Mar 2023) EndedAt: 2023-03-30 10:49:29 -0400 (Thu, 30 Mar 2023) EllapsedTime: 90.0 seconds RetCode: 0 Status: OK PackageFile: ccfindR_1.19.0.tgz PackageFileSize: 1.589 MiB