Package: cellbaseR Version: 1.24.0 Command: /Library/Frameworks/R.framework/Resources/bin/R CMD build --keep-empty-dirs --no-resave-data cellbaseR StartedAt: 2023-10-15 22:51:21 -0400 (Sun, 15 Oct 2023) EndedAt: 2023-10-15 22:51:47 -0400 (Sun, 15 Oct 2023) EllapsedTime: 25.7 seconds RetCode: 1 Status: ERROR PackageFile: None PackageFileSize: NA