git_url: https://git.bioconductor.org/packages/censcyt git_branch: RELEASE_3_17 git_last_commit: 920e2a9 git_last_commit_date: 2023-04-25 11:25:31 -0400 (Tue, 25 Apr 2023) Package: censcyt Version: 1.8.0 Maintainer: Reto Gerber MaintainerEmail: gerberreto at pm.me