Package: chromVAR Version: 1.22.1 Command: rm -rf chromVAR.buildbin-libdir && mkdir chromVAR.buildbin-libdir && /Users/biocbuild/BBS/utils/build-universal.sh chromVAR_1.22.1.tar.gz /Library/Frameworks/R.framework/Resources/bin/R chromVAR.buildbin-libdir StartedAt: 2023-10-19 12:06:06 -0400 (Thu, 19 Oct 2023) EndedAt: 2023-10-19 12:09:06 -0400 (Thu, 19 Oct 2023) EllapsedTime: 179.9 seconds RetCode: 0 Status: OK PackageFile: chromVAR_1.22.1.tgz PackageFileSize: 1.44 MiB