Package: clipper Version: 1.40.0 Command: /Library/Frameworks/R.framework/Resources/bin/R CMD build --keep-empty-dirs --no-resave-data clipper StartedAt: 2023-10-15 23:37:10 -0400 (Sun, 15 Oct 2023) EndedAt: 2023-10-15 23:38:46 -0400 (Sun, 15 Oct 2023) EllapsedTime: 95.7 seconds RetCode: 0 Status: OK PackageFile: clipper_1.40.0.tar.gz PackageFileSize: 1007 KiB