Package: clipper Version: 1.40.0 Command: /Library/Frameworks/R.framework/Resources/bin/R CMD check --install=check:clipper.install-out.txt --library=/Library/Frameworks/R.framework/Resources/library --no-vignettes --timings clipper_1.40.0.tar.gz StartedAt: 2023-10-17 09:57:31 -0400 (Tue, 17 Oct 2023) EndedAt: 2023-10-17 10:07:03 -0400 (Tue, 17 Oct 2023) EllapsedTime: 571.8 seconds RetCode: 0 Status: OK CheckDir: clipper.Rcheck Warnings: 0