git_url: https://git.bioconductor.org/packages/concordexR git_branch: RELEASE_3_17 git_last_commit: 600425d git_last_commit_date: 2023-04-25 11:44:20 -0400 (Tue, 25 Apr 2023) Package: concordexR Version: 1.0.0 Maintainer: Kayla Jackson MaintainerEmail: kaylajac at caltech.edu