git_url: https://git.bioconductor.org/packages/consensus git_branch: RELEASE_3_17 git_last_commit: c047a1f git_last_commit_date: 2023-04-25 11:03:23 -0400 (Tue, 25 Apr 2023) Package: consensus Version: 1.18.0 Maintainer: Tim Peters MaintainerEmail: t.peters at garvan.org.au