Package: ddPCRclust Version: 1.20.0 Command: /Library/Frameworks/R.framework/Resources/bin/R CMD INSTALL ddPCRclust StartedAt: 2023-10-15 19:33:21 -0400 (Sun, 15 Oct 2023) EndedAt: 2023-10-15 19:33:55 -0400 (Sun, 15 Oct 2023) EllapsedTime: 33.8 seconds RetCode: 0 Status: OK