Package: edgeR Version: 3.42.4 Command: /Library/Frameworks/R.framework/Resources/bin/R CMD check --install=check:edgeR.install-out.txt --library=/Library/Frameworks/R.framework/Resources/library --no-vignettes --timings edgeR_3.42.4.tar.gz StartedAt: 2023-10-17 17:17:52 -0400 (Tue, 17 Oct 2023) EndedAt: 2023-10-17 17:20:21 -0400 (Tue, 17 Oct 2023) EllapsedTime: 149.2 seconds RetCode: 0 Status: OK CheckDir: edgeR.Rcheck Warnings: 0