Package: epivizr Version: 2.30.0 Command: /Library/Frameworks/R.framework/Resources/bin/R CMD build --keep-empty-dirs --no-resave-data epivizr StartedAt: 2023-10-16 02:53:19 -0400 (Mon, 16 Oct 2023) EndedAt: 2023-10-16 02:55:10 -0400 (Mon, 16 Oct 2023) EllapsedTime: 111.2 seconds RetCode: 0 Status: OK PackageFile: epivizr_2.30.0.tar.gz PackageFileSize: 1.191 MiB