Package: epivizrData Version: 1.28.0 Command: /Library/Frameworks/R.framework/Resources/bin/R CMD check --install=check:epivizrData.install-out.txt --library=/Library/Frameworks/R.framework/Resources/library --no-vignettes --timings epivizrData_1.28.0.tar.gz StartedAt: 2023-10-17 18:20:25 -0400 (Tue, 17 Oct 2023) EndedAt: 2023-10-17 18:28:18 -0400 (Tue, 17 Oct 2023) EllapsedTime: 472.9 seconds RetCode: 0 Status: OK CheckDir: epivizrData.Rcheck Warnings: 0