git_url: https://git.bioconductor.org/packages/exomePeak2 git_branch: RELEASE_3_17 git_last_commit: 4843089 git_last_commit_date: 2023-04-25 11:15:50 -0400 (Tue, 25 Apr 2023) Package: exomePeak2 Version: 1.12.0 Maintainer: Zhen Wei MaintainerEmail: zhen.wei10 at icloud.com