git_url: https://git.bioconductor.org/packages/extraChIPs git_branch: RELEASE_3_17 git_last_commit: 099625f git_last_commit_date: 2023-07-08 04:51:32 -0400 (Sat, 08 Jul 2023) Package: extraChIPs Version: 1.4.6 Maintainer: Stephen Pederson MaintainerEmail: stephen.pederson.au at gmail.com