Package: fishpond Version: 2.6.2 Command: rm -rf fishpond.buildbin-libdir && mkdir fishpond.buildbin-libdir && /Users/biocbuild/BBS/utils/build-universal.sh fishpond_2.6.2.tar.gz /Library/Frameworks/R.framework/Resources/bin/R fishpond.buildbin-libdir StartedAt: 2023-10-19 13:20:46 -0400 (Thu, 19 Oct 2023) EndedAt: 2023-10-19 13:21:49 -0400 (Thu, 19 Oct 2023) EllapsedTime: 63.2 seconds RetCode: 0 Status: OK PackageFile: fishpond_2.6.2.tgz PackageFileSize: 3.168 MiB