Package: fishpond Version: 2.6.2 Command: /Library/Frameworks/R.framework/Resources/bin/R CMD check --install=check:fishpond.install-out.txt --library=/Library/Frameworks/R.framework/Resources/library --no-vignettes --timings fishpond_2.6.2.tar.gz StartedAt: 2023-10-17 19:37:29 -0400 (Tue, 17 Oct 2023) EndedAt: 2023-10-17 19:43:52 -0400 (Tue, 17 Oct 2023) EllapsedTime: 382.6 seconds RetCode: 0 Status: OK CheckDir: fishpond.Rcheck Warnings: 0