Package: flowCore Version: 2.12.2 Command: /Library/Frameworks/R.framework/Resources/bin/R CMD build --keep-empty-dirs --no-resave-data flowCore StartedAt: 2023-10-16 03:29:07 -0400 (Mon, 16 Oct 2023) EndedAt: 2023-10-16 03:30:48 -0400 (Mon, 16 Oct 2023) EllapsedTime: 101.0 seconds RetCode: 0 Status: OK PackageFile: flowCore_2.12.2.tar.gz PackageFileSize: 7.45 MiB