Package: flowCyBar Version: 1.36.0 Command: rm -rf flowCyBar.buildbin-libdir && mkdir flowCyBar.buildbin-libdir && /Users/biocbuild/BBS/utils/build-universal.sh flowCyBar_1.36.0.tar.gz /Library/Frameworks/R.framework/Resources/bin/R flowCyBar.buildbin-libdir StartedAt: 2023-10-19 13:23:02 -0400 (Thu, 19 Oct 2023) EndedAt: 2023-10-19 13:23:19 -0400 (Thu, 19 Oct 2023) EllapsedTime: 16.8 seconds RetCode: 0 Status: OK PackageFile: flowCyBar_1.36.0.tgz PackageFileSize: 532.1 KiB